Workbook

Sheet Postcode Calculator
A1: #VALUE!
D2: Please fill out the form below to identify which students are in the university's target demographic. Please note that postcodes can either have a space or no space; this template will process either format. Targeted Students will be Highlighted Green.
A6: First Name | B6: Surname | C6: Year Group | D6: Postcode | E6: Target Student
E7: =IF(D7="","",IFERROR( _xlfn.LET( _xlpm.PC,TRIM(SUBSTITUTE(D7," ","")), _xlpm.IMD,_xlfn.XLOOKUP(_xlpm.PC,'Postcodes Data'!A:A,'Postcodes Data'!B:B,""), _xlpm.POLAR,_xlfn.XLOOKUP(_xlpm.PC,'Postcodes Data'!A:A,'Postcodes Data'!D:D,""), IF(_xlpm.POLAR="", IF(_xlpm.IMD<=4, "Targeted IMD Postcode (No POLAR4 Data)", "Not Targeted Postcode (No POLAR4 Data)" ), IF(AND(_xlpm.IMD<=4,_xlpm.POLAR<=2), "Targeted IMD and POLAR4 Postcode", IF(_xlpm.IMD<=4, "Targeted IMD Postcode", IF(_xlpm.POLAR<=2, "Targeted POLAR4 Postcode", "Not Targeted Postcode" )) ))),""))
E8: =IF(D8="","",IFERROR( _xlfn.LET( _xlpm.PC,TRIM(SUBSTITUTE(D8," ","")), _xlpm.IMD,_xlfn.XLOOKUP(_xlpm.PC,'Postcodes Data'!A:A,'Postcodes Data'!B:B,""), _xlpm.POLAR,_xlfn.XLOOKUP(_xlpm.PC,'Postcodes Data'!A:A,'Postcodes Data'!D:D,""), IF(_xlpm.POLAR="", IF(_xlpm.IMD<=4, "Targeted IMD Postcode (No POLAR4 Data)", "Not Targeted Postcode (No POLAR4 Data)" ), IF(AND(_xlpm.IMD<=4,_xlpm.POLAR<=2), "Targeted IMD and POLAR4 Postcode", IF(_xlpm.IMD<=4, "Targeted IMD Postcode", IF(_xlpm.POLAR<=2, "Targeted POLAR4 Postcode", "Not Targeted Postcode" )) ))),""))
E9: =IF(D9="","",IFERROR( _xlfn.LET( _xlpm.PC,TRIM(SUBSTITUTE(D9," ","")), _xlpm.IMD,_xlfn.XLOOKUP(_xlpm.PC,'Postcodes Data'!A:A,'Postcodes Data'!B:B,""), _xlpm.POLAR,_xlfn.XLOOKUP(_xlpm.PC,'Postcodes Data'!A:A,'Postcodes Data'!D:D,""), IF(_xlpm.POLAR="", IF(_xlpm.IMD<=4, "Targeted IMD Postcode (No POLAR4 Data)", "Not Targeted Postcode (No POLAR4 Data)" ), IF(AND(_xlpm.IMD<=4,_xlpm.POLAR<=2), "Targeted IMD and POLAR4 Postcode", IF(_xlpm.IMD<=4, "Targeted IMD Postcode", IF(_xlpm.POLAR<=2, "Targeted POLAR4 Postcode", "Not Targeted Postcode" )) ))),""))
E10: =IF(D10="","",IFERROR( _xlfn.LET( _xlpm.PC,TRIM(SUBSTITUTE(D10," ","")), _xlpm.IMD,_xlfn.XLOOKUP(_xlpm.PC,'Postcodes Data'!A:A,'Postcodes Data'!B:B,""), _xlpm.POLAR,_xlfn.XLOOKUP(_xlpm.PC,'Postcodes Data'!A:A,'Postcodes Data'!D:D,""), IF(_xlpm.POLAR="", IF(_xlpm.IMD<=4, "Targeted IMD Postcode (No POLAR4 Data)", "Not Targeted Postcode (No POLAR4 Data)" ), IF(AND(_xlpm.IMD<=4,_xlpm.POLAR<=2), "Targeted IMD and POLAR4 Postcode", IF(_xlpm.IMD<=4, "Targeted IMD Postcode", IF(_xlpm.POLAR<=2, "Targeted POLAR4 Postcode", "Not Targeted Postcode" )) ))),""))
E11: =IF(D11="","",IFERROR( _xlfn.LET( _xlpm.PC,TRIM(SUBSTITUTE(D11," ","")), _xlpm.IMD,_xlfn.XLOOKUP(_xlpm.PC,'Postcodes Data'!A:A,'Postcodes Data'!B:B,""), _xlpm.POLAR,_xlfn.XLOOKUP(_xlpm.PC,'Postcodes Data'!A:A,'Postcodes Data'!D:D,""), IF(_xlpm.POLAR="", IF(_xlpm.IMD<=4, "Targeted IMD Postcode (No POLAR4 Data)", "Not Targeted Postcode (No POLAR4 Data)" ), IF(AND(_xlpm.IMD<=4,_xlpm.POLAR<=2), "Targeted IMD and POLAR4 Postcode", IF(_xlpm.IMD<=4, "Targeted IMD Postcode", IF(_xlpm.POLAR<=2, "Targeted POLAR4 Postcode", "Not Targeted Postcode" )) ))),""))
E12: =IF(D12="","",IFERROR( _xlfn.LET( _xlpm.PC,TRIM(SUBSTITUTE(D12," ","")), _xlpm.IMD,_xlfn.XLOOKUP(_xlpm.PC,'Postcodes Data'!A:A,'Postcodes Data'!B:B,""), _xlpm.POLAR,_xlfn.XLOOKUP(_xlpm.PC,'Postcodes Data'!A:A,'Postcodes Data'!D:D,""), IF(_xlpm.POLAR="", IF(_xlpm.IMD<=4, "Targeted IMD Postcode (No POLAR4 Data)", "Not Targeted Postcode (No POLAR4 Data)" ), IF(AND(_xlpm.IMD<=4,_xlpm.POLAR<=2), "Targeted IMD and POLAR4 Postcode", IF(_xlpm.IMD<=4, "Targeted IMD Postcode", IF(_xlpm.POLAR<=2, "Targeted POLAR4 Postcode", "Not Targeted Postcode" )) ))),""))
E13: =IF(D13="","",IFERROR( _xlfn.LET( _xlpm.PC,TRIM(SUBSTITUTE(D13," ","")), _xlpm.IMD,_xlfn.XLOOKUP(_xlpm.PC,'Postcodes Data'!A:A,'Postcodes Data'!B:B,""), _xlpm.POLAR,_xlfn.XLOOKUP(_xlpm.PC,'Postcodes Data'!A:A,'Postcodes Data'!D:D,""), IF(_xlpm.POLAR="", IF(_xlpm.IMD<=4, "Targeted IMD Postcode (No POLAR4 Data)", "Not Targeted Postcode (No POLAR4 Data)" ), IF(AND(_xlpm.IMD<=4,_xlpm.POLAR<=2), "Targeted IMD and POLAR4 Postcode", IF(_xlpm.IMD<=4, "Targeted IMD Postcode", IF(_xlpm.POLAR<=2, "Targeted POLAR4 Postcode", "Not Targeted Postcode" )) ))),""))
E14: =IF(D14="","",IFERROR( _xlfn.LET( _xlpm.PC,TRIM(SUBSTITUTE(D14," ","")), _xlpm.IMD,_xlfn.XLOOKUP(_xlpm.PC,'Postcodes Data'!A:A,'Postcodes Data'!B:B,""), _xlpm.POLAR,_xlfn.XLOOKUP(_xlpm.PC,'Postcodes Data'!A:A,'Postcodes Data'!D:D,""), IF(_xlpm.POLAR="", IF(_xlpm.IMD<=4, "Targeted IMD Postcode (No POLAR4 Data)", "Not Targeted Postcode (No POLAR4 Data)" ), IF(AND(_xlpm.IMD<=4,_xlpm.POLAR<=2), "Targeted IMD and POLAR4 Postcode", IF(_xlpm.IMD<=4, "Targeted IMD Postcode", IF(_xlpm.POLAR<=2, "Targeted POLAR4 Postcode", "Not Targeted Postcode" )) ))),""))
E15: =IF(D15="","",IFERROR( _xlfn.LET( _xlpm.PC,TRIM(SUBSTITUTE(D15," ","")), _xlpm.IMD,_xlfn.XLOOKUP(_xlpm.PC,'Postcodes Data'!A:A,'Postcodes Data'!B:B,""), _xlpm.POLAR,_xlfn.XLOOKUP(_xlpm.PC,'Postcodes Data'!A:A,'Postcodes Data'!D:D,""), IF(_xlpm.POLAR="", IF(_xlpm.IMD<=4, "Targeted IMD Postcode (No POLAR4 Data)", "Not Targeted Postcode (No POLAR4 Data)" ), IF(AND(_xlpm.IMD<=4,_xlpm.POLAR<=2), "Targeted IMD and POLAR4 Postcode", IF(_xlpm.IMD<=4, "Targeted IMD Postcode", IF(_xlpm.POLAR<=2, "Targeted POLAR4 Postcode", "Not Targeted Postcode" )) ))),""))
E16: =IF(D16="","",IFERROR( _xlfn.LET( _xlpm.PC,TRIM(SUBSTITUTE(D16," ","")), _xlpm.IMD,_xlfn.XLOOKUP(_xlpm.PC,'Postcodes Data'!A:A,'Postcodes Data'!B:B,""), _xlpm.POLAR,_xlfn.XLOOKUP(_xlpm.PC,'Postcodes Data'!A:A,'Postcodes Data'!D:D,""), IF(_xlpm.POLAR="", IF(_xlpm.IMD<=4, "Targeted IMD Postcode (No POLAR4 Data)", "Not Targeted Postcode (No POLAR4 Data)" ), IF(AND(_xlpm.IMD<=4,_xlpm.POLAR<=2), "Targeted IMD and POLAR4 Postcode", IF(_xlpm.IMD<=4, "Targeted IMD Postcode", IF(_xlpm.POLAR<=2, "Targeted POLAR4 Postcode", "Not Targeted Postcode" )) ))),""))
E17: =IF(D17="","",IFERROR( _xlfn.LET( _xlpm.PC,TRIM(SUBSTITUTE(D17," ","")), _xlpm.IMD,_xlfn.XLOOKUP(_xlpm.PC,'Postcodes Data'!A:A,'Postcodes Data'!B:B,""), _xlpm.POLAR,_xlfn.XLOOKUP(_xlpm.PC,'Postcodes Data'!A:A,'Postcodes Data'!D:D,""), IF(_xlpm.POLAR="", IF(_xlpm.IMD<=4, "Targeted IMD Postcode (No POLAR4 Data)", "Not Targeted Postcode (No POLAR4 Data)" ), IF(AND(_xlpm.IMD<=4,_xlpm.POLAR<=2), "Targeted IMD and POLAR4 Postcode", IF(_xlpm.IMD<=4, "Targeted IMD Postcode", IF(_xlpm.POLAR<=2, "Targeted POLAR4 Postcode", "Not Targeted Postcode" )) ))),""))
E18: =IF(D18="","",IFERROR( _xlfn.LET( _xlpm.PC,TRIM(SUBSTITUTE(D18," ","")), _xlpm.IMD,_xlfn.XLOOKUP(_xlpm.PC,'Postcodes Data'!A:A,'Postcodes Data'!B:B,""), _xlpm.POLAR,_xlfn.XLOOKUP(_xlpm.PC,'Postcodes Data'!A:A,'Postcodes Data'!D:D,""), IF(_xlpm.POLAR="", IF(_xlpm.IMD<=4, "Targeted IMD Postcode (No POLAR4 Data)", "Not Targeted Postcode (No POLAR4 Data)" ), IF(AND(_xlpm.IMD<=4,_xlpm.POLAR<=2), "Targeted IMD and POLAR4 Postcode", IF(_xlpm.IMD<=4, "Targeted IMD Postcode", IF(_xlpm.POLAR<=2, "Targeted POLAR4 Postcode", "Not Targeted Postcode" )) ))),""))
... E3551: =IF(D3551="","",IFERROR( _xlfn.LET( _xlpm.PC,TRIM(SUBSTITUTE(D3551," ","")), _xlpm.IMD,_xlfn.XLOOKUP(_xlpm.PC,'Postcodes Data'!A:A,'Postcodes Data'!B:B,""), _xlpm.POLAR,_xlfn.XLOOKUP(_xlpm.PC,'Postcodes Data'!A:A,'Postcodes Data'!D:D,""), IF(_xlpm.POLAR="", IF(_xlpm.IMD<=4, "Targeted IMD Postcode (No POLAR4 Data)", "Not Targeted Postcode (No POLAR4 Data)" ), IF(AND(_xlpm.IMD<=4,_xlpm.POLAR<=2), "Targeted IMD and POLAR4 Postcode", IF(_xlpm.IMD<=4, "Targeted IMD Postcode", IF(_xlpm.POLAR<=2, "Targeted POLAR4 Postcode", "Not Targeted Postcode" )) ))),""))

Sheet Postcodes Data
A1: Postcode | B1: Index of Multiple Deprivation (IMD) Decile | C1: quintil | D1: Polar4 quintile
A2: NN100AA | B2: 3 | C2: =ROUNDUP(B2/2,0) -> 2 | D2: 1
A3: NN95AA | B3: 7 | C3: =ROUNDUP(B3/2,0) -> 4 | D3: 3
A4: NN95AB | B4: 7 | C4: =ROUNDUP(B4/2,0) -> 4 | D4: 3
A5: NN95AD | B5: 7 | C5: =ROUNDUP(B5/2,0) -> 4 | D5: 3
A6: NN95AE | B6: 7 | C6: =ROUNDUP(B6/2,0) -> 4 | D6: 3
A7: NN95AF | B7: 7 | C7: =ROUNDUP(B7/2,0) -> 4 | D7: 3
A8: NN95AG | B8: 7 | C8: =ROUNDUP(B8/2,0) -> 4 | D8: 3
A9: NN95AH | B9: 7 | C9: =ROUNDUP(B9/2,0) -> 4 | D9: 3
A10: NN95AJ | B10: 9 | C10: =ROUNDUP(B10/2,0) -> 5 | D10: 2
A11: NN95AL | B11: 7 | C11: =ROUNDUP(B11/2,0) -> 4 | D11: 3
A12: NN95AN | B12: 7 | C12: =ROUNDUP(B12/2,0) -> 4 | D12: 3
A13: NN95AP | B13: 7 | C13: =ROUNDUP(B13/2,0) -> 4
A14: NN95AQ | B14: 7 | C14: =ROUNDUP(B14/2,0) -> 4 | D14: 3
A15: NN95AR | B15: 7 | C15: =ROUNDUP(B15/2,0) -> 4 | D15: 3
A16: NN95AS | B16: 7 | C16: =ROUNDUP(B16/2,0) -> 4 | D16: 3
A17: NN95AT | B17: 7 | C17: =ROUNDUP(B17/2,0) -> 4
A18: NN95AU | B18: 3 | C18: =ROUNDUP(B18/2,0) -> 2 | D18: 2
A19: NN95AW | B19: 7 | C19: =ROUNDUP(B19/2,0) -> 4 | D19: 3
A20: NN95AX | B20: 7 | C20: =ROUNDUP(B20/2,0) -> 4 | D20: 3
A21: NN95AY | B21: 7 | C21: =ROUNDUP(B21/2,0) -> 4
A22: NN95AZ | B22: 7 | C22: =ROUNDUP(B22/2,0) -> 4
A23: NN95BA | B23: 7 | C23: =ROUNDUP(B23/2,0) -> 4 | D23: 3
A24: NN95BB | B24: 7 | C24: =ROUNDUP(B24/2,0) -> 4 | D24: 3
A25: NN95BD | B25: 7 | C25: =ROUNDUP(B25/2,0) -> 4 | D25: 3
A26: NN95BE | B26: 7 | C26: =ROUNDUP(B26/2,0) -> 4 | D26: 3
A27: NN95BF | B27: 4 | C27: =ROUNDUP(B27/2,0) -> 2 | D27: 2
A28: NN95BG | B28: 7 | C28: =ROUNDUP(B28/2,0) -> 4 | D28: 3
A29: NN95BH | B29: 7 | C29: =ROUNDUP(B29/2,0) -> 4 | D29: 3
A30: NN95BJ | B30: 7 | C30: =ROUNDUP(B30/2,0) -> 4 | D30: 3
A31: NN95BL | B31: 7 | C31: =ROUNDUP(B31/2,0) -> 4 | D31: 3
A32: NN95BN | B32: 7 | C32: =ROUNDUP(B32/2,0) -> 4 | D32: 3
A33: NN95BP | B33: 7 | C33: =ROUNDUP(B33/2,0) -> 4 | D33: 3
A34: NN95BQ | B34: 7 | C34: =ROUNDUP(B34/2,0) -> 4 | D34: 3
... A47: NN95DG | B47: 5 | C47: =ROUNDUP(B47/2,0) -> 3 | D47: 3
A48: NN95DH | B48: 5 | C48: =ROUNDUP(B48/2,0) -> 3
A49: NN95DJ | B49: 5 | C49: =ROUNDUP(B49/2,0) -> 3 | D49: 3
A50: NN95DL | B50: 5 | C50: =ROUNDUP(B50/2,0) -> 3 | D50: 3
A51: NN95DN | B51: 5 | C51: =ROUNDUP(B51/2,0) -> 3 | D51: 3
A52: NN95DP | B52: 4 | C52: =ROUNDUP(B52/2,0) -> 2 | D52: 3
...
