Workbook

Sheet Postcode Calculator
A1: #VALUE!
D2: Please fill out the form below to identify which students are in the university's target demographic. Please note that postcodes can either have a space or no space; this template will process either format. Targeted Students will be Highlighted Green.
A6: First Name | B6: Surname | C6: Year Group | D6: Postcode | E6: Target Student
E7: =IF(D7="","",IFERROR( _xlfn.LET( _xlpm.PC,TRIM(SUBSTITUTE(D7," ","")), _xlpm.IMD,_xlfn.XLOOKUP(_xlpm.PC,'Postcodes Data'!A:A,'Postcodes Data'!B:B,""), _xlpm.POLAR,_xlfn.XLOOKUP(_xlpm.PC,'Postcodes Data'!A:A,'Postcodes Data'!D:D,""), IF(_xlpm.POLAR="", IF(_xlpm.IMD<=4, "Targeted IMD Postcode (No POLAR4 Data)", "Not Targeted Postcode (No POLAR4 Data)" ), IF(AND(_xlpm.IMD<=4,_xlpm.POLAR<=2), "Targeted IMD and POLAR4 Postcode", IF(_xlpm.IMD<=4, "Targeted IMD Postcode", IF(_xlpm.POLAR<=2, "Targeted POLAR4 Postcode", "Not Targeted Postcode" )) ))),""))
E8: =IF(D8="","",IFERROR( _xlfn.LET( _xlpm.PC,TRIM(SUBSTITUTE(D8," ","")), _xlpm.IMD,_xlfn.XLOOKUP(_xlpm.PC,'Postcodes Data'!A:A,'Postcodes Data'!B:B,""), _xlpm.POLAR,_xlfn.XLOOKUP(_xlpm.PC,'Postcodes Data'!A:A,'Postcodes Data'!D:D,""), IF(_xlpm.POLAR="", IF(_xlpm.IMD<=4, "Targeted IMD Postcode (No POLAR4 Data)", "Not Targeted Postcode (No POLAR4 Data)" ), IF(AND(_xlpm.IMD<=4,_xlpm.POLAR<=2), "Targeted IMD and POLAR4 Postcode", IF(_xlpm.IMD<=4, "Targeted IMD Postcode", IF(_xlpm.POLAR<=2, "Targeted POLAR4 Postcode", "Not Targeted Postcode" )) ))),""))
E9: =IF(D9="","",IFERROR( _xlfn.LET( _xlpm.PC,TRIM(SUBSTITUTE(D9," ","")), _xlpm.IMD,_xlfn.XLOOKUP(_xlpm.PC,'Postcodes Data'!A:A,'Postcodes Data'!B:B,""), _xlpm.POLAR,_xlfn.XLOOKUP(_xlpm.PC,'Postcodes Data'!A:A,'Postcodes Data'!D:D,""), IF(_xlpm.POLAR="", IF(_xlpm.IMD<=4, "Targeted IMD Postcode (No POLAR4 Data)", "Not Targeted Postcode (No POLAR4 Data)" ), IF(AND(_xlpm.IMD<=4,_xlpm.POLAR<=2), "Targeted IMD and POLAR4 Postcode", IF(_xlpm.IMD<=4, "Targeted IMD Postcode", IF(_xlpm.POLAR<=2, "Targeted POLAR4 Postcode", "Not Targeted Postcode" )) ))),""))
E10: =IF(D10="","",IFERROR( _xlfn.LET( _xlpm.PC,TRIM(SUBSTITUTE(D10," ","")), _xlpm.IMD,_xlfn.XLOOKUP(_xlpm.PC,'Postcodes Data'!A:A,'Postcodes Data'!B:B,""), _xlpm.POLAR,_xlfn.XLOOKUP(_xlpm.PC,'Postcodes Data'!A:A,'Postcodes Data'!D:D,""), IF(_xlpm.POLAR="", IF(_xlpm.IMD<=4, "Targeted IMD Postcode (No POLAR4 Data)", "Not Targeted Postcode (No POLAR4 Data)" ), IF(AND(_xlpm.IMD<=4,_xlpm.POLAR<=2), "Targeted IMD and POLAR4 Postcode", IF(_xlpm.IMD<=4, "Targeted IMD Postcode", IF(_xlpm.POLAR<=2, "Targeted POLAR4 Postcode", "Not Targeted Postcode" )) ))),""))
E11: =IF(D11="","",IFERROR( _xlfn.LET( _xlpm.PC,TRIM(SUBSTITUTE(D11," ","")), _xlpm.IMD,_xlfn.XLOOKUP(_xlpm.PC,'Postcodes Data'!A:A,'Postcodes Data'!B:B,""), _xlpm.POLAR,_xlfn.XLOOKUP(_xlpm.PC,'Postcodes Data'!A:A,'Postcodes Data'!D:D,""), IF(_xlpm.POLAR="", IF(_xlpm.IMD<=4, "Targeted IMD Postcode (No POLAR4 Data)", "Not Targeted Postcode (No POLAR4 Data)" ), IF(AND(_xlpm.IMD<=4,_xlpm.POLAR<=2), "Targeted IMD and POLAR4 Postcode", IF(_xlpm.IMD<=4, "Targeted IMD Postcode", IF(_xlpm.POLAR<=2, "Targeted POLAR4 Postcode", "Not Targeted Postcode" )) ))),""))
E12: =IF(D12="","",IFERROR( _xlfn.LET( _xlpm.PC,TRIM(SUBSTITUTE(D12," ","")), _xlpm.IMD,_xlfn.XLOOKUP(_xlpm.PC,'Postcodes Data'!A:A,'Postcodes Data'!B:B,""), _xlpm.POLAR,_xlfn.XLOOKUP(_xlpm.PC,'Postcodes Data'!A:A,'Postcodes Data'!D:D,""), IF(_xlpm.POLAR="", IF(_xlpm.IMD<=4, "Targeted IMD Postcode (No POLAR4 Data)", "Not Targeted Postcode (No POLAR4 Data)" ), IF(AND(_xlpm.IMD<=4,_xlpm.POLAR<=2), "Targeted IMD and POLAR4 Postcode", IF(_xlpm.IMD<=4, "Targeted IMD Postcode", IF(_xlpm.POLAR<=2, "Targeted POLAR4 Postcode", "Not Targeted Postcode" )) ))),""))
E13: =IF(D13="","",IFERROR( _xlfn.LET( _xlpm.PC,TRIM(SUBSTITUTE(D13," ","")), _xlpm.IMD,_xlfn.XLOOKUP(_xlpm.PC,'Postcodes Data'!A:A,'Postcodes Data'!B:B,""), _xlpm.POLAR,_xlfn.XLOOKUP(_xlpm.PC,'Postcodes Data'!A:A,'Postcodes Data'!D:D,""), IF(_xlpm.POLAR="", IF(_xlpm.IMD<=4, "Targeted IMD Postcode (No POLAR4 Data)", "Not Targeted Postcode (No POLAR4 Data)" ), IF(AND(_xlpm.IMD<=4,_xlpm.POLAR<=2), "Targeted IMD and POLAR4 Postcode", IF(_xlpm.IMD<=4, "Targeted IMD Postcode", IF(_xlpm.POLAR<=2, "Targeted POLAR4 Postcode", "Not Targeted Postcode" )) ))),""))
E14: =IF(D14="","",IFERROR( _xlfn.LET( _xlpm.PC,TRIM(SUBSTITUTE(D14," ","")), _xlpm.IMD,_xlfn.XLOOKUP(_xlpm.PC,'Postcodes Data'!A:A,'Postcodes Data'!B:B,""), _xlpm.POLAR,_xlfn.XLOOKUP(_xlpm.PC,'Postcodes Data'!A:A,'Postcodes Data'!D:D,""), IF(_xlpm.POLAR="", IF(_xlpm.IMD<=4, "Targeted IMD Postcode (No POLAR4 Data)", "Not Targeted Postcode (No POLAR4 Data)" ), IF(AND(_xlpm.IMD<=4,_xlpm.POLAR<=2), "Targeted IMD and POLAR4 Postcode", IF(_xlpm.IMD<=4, "Targeted IMD Postcode", IF(_xlpm.POLAR<=2, "Targeted POLAR4 Postcode", "Not Targeted Postcode" )) ))),""))
E15: =IF(D15="","",IFERROR( _xlfn.LET( _xlpm.PC,TRIM(SUBSTITUTE(D15," ","")), _xlpm.IMD,_xlfn.XLOOKUP(_xlpm.PC,'Postcodes Data'!A:A,'Postcodes Data'!B:B,""), _xlpm.POLAR,_xlfn.XLOOKUP(_xlpm.PC,'Postcodes Data'!A:A,'Postcodes Data'!D:D,""), IF(_xlpm.POLAR="", IF(_xlpm.IMD<=4, "Targeted IMD Postcode (No POLAR4 Data)", "Not Targeted Postcode (No POLAR4 Data)" ), IF(AND(_xlpm.IMD<=4,_xlpm.POLAR<=2), "Targeted IMD and POLAR4 Postcode", IF(_xlpm.IMD<=4, "Targeted IMD Postcode", IF(_xlpm.POLAR<=2, "Targeted POLAR4 Postcode", "Not Targeted Postcode" )) ))),""))
E16: =IF(D16="","",IFERROR( _xlfn.LET( _xlpm.PC,TRIM(SUBSTITUTE(D16," ","")), _xlpm.IMD,_xlfn.XLOOKUP(_xlpm.PC,'Postcodes Data'!A:A,'Postcodes Data'!B:B,""), _xlpm.POLAR,_xlfn.XLOOKUP(_xlpm.PC,'Postcodes Data'!A:A,'Postcodes Data'!D:D,""), IF(_xlpm.POLAR="", IF(_xlpm.IMD<=4, "Targeted IMD Postcode (No POLAR4 Data)", "Not Targeted Postcode (No POLAR4 Data)" ), IF(AND(_xlpm.IMD<=4,_xlpm.POLAR<=2), "Targeted IMD and POLAR4 Postcode", IF(_xlpm.IMD<=4, "Targeted IMD Postcode", IF(_xlpm.POLAR<=2, "Targeted POLAR4 Postcode", "Not Targeted Postcode" )) ))),""))
E17: =IF(D17="","",IFERROR( _xlfn.LET( _xlpm.PC,TRIM(SUBSTITUTE(D17," ","")), _xlpm.IMD,_xlfn.XLOOKUP(_xlpm.PC,'Postcodes Data'!A:A,'Postcodes Data'!B:B,""), _xlpm.POLAR,_xlfn.XLOOKUP(_xlpm.PC,'Postcodes Data'!A:A,'Postcodes Data'!D:D,""), IF(_xlpm.POLAR="", IF(_xlpm.IMD<=4, "Targeted IMD Postcode (No POLAR4 Data)", "Not Targeted Postcode (No POLAR4 Data)" ), IF(AND(_xlpm.IMD<=4,_xlpm.POLAR<=2), "Targeted IMD and POLAR4 Postcode", IF(_xlpm.IMD<=4, "Targeted IMD Postcode", IF(_xlpm.POLAR<=2, "Targeted POLAR4 Postcode", "Not Targeted Postcode" )) ))),""))
E18: =IF(D18="","",IFERROR( _xlfn.LET( _xlpm.PC,TRIM(SUBSTITUTE(D18," ","")), _xlpm.IMD,_xlfn.XLOOKUP(_xlpm.PC,'Postcodes Data'!A:A,'Postcodes Data'!B:B,""), _xlpm.POLAR,_xlfn.XLOOKUP(_xlpm.PC,'Postcodes Data'!A:A,'Postcodes Data'!D:D,""), IF(_xlpm.POLAR="", IF(_xlpm.IMD<=4, "Targeted IMD Postcode (No POLAR4 Data)", "Not Targeted Postcode (No POLAR4 Data)" ), IF(AND(_xlpm.IMD<=4,_xlpm.POLAR<=2), "Targeted IMD and POLAR4 Postcode", IF(_xlpm.IMD<=4, "Targeted IMD Postcode", IF(_xlpm.POLAR<=2, "Targeted POLAR4 Postcode", "Not Targeted Postcode" )) ))),""))
... E3551: =IF(D3551="","",IFERROR( _xlfn.LET( _xlpm.PC,TRIM(SUBSTITUTE(D3551," ","")), _xlpm.IMD,_xlfn.XLOOKUP(_xlpm.PC,'Postcodes Data'!A:A,'Postcodes Data'!B:B,""), _xlpm.POLAR,_xlfn.XLOOKUP(_xlpm.PC,'Postcodes Data'!A:A,'Postcodes Data'!D:D,""), IF(_xlpm.POLAR="", IF(_xlpm.IMD<=4, "Targeted IMD Postcode (No POLAR4 Data)", "Not Targeted Postcode (No POLAR4 Data)" ), IF(AND(_xlpm.IMD<=4,_xlpm.POLAR<=2), "Targeted IMD and POLAR4 Postcode", IF(_xlpm.IMD<=4, "Targeted IMD Postcode", IF(_xlpm.POLAR<=2, "Targeted POLAR4 Postcode", "Not Targeted Postcode" )) ))),""))

Sheet Postcodes Data
A1: Postcode | B1: Index of Multiple Deprivation (IMD) Decile | C1: quintil | D1: Polar4 quintile
A2: NN100AA | B2: 3 | C2: =ROUNDUP(B2/2,0) -> 2 | D2: 1
A3: NN95AA | B3: 7 | C3: =ROUNDUP(B3/2,0) -> 4 | D3: 3
A4: NN95AB | B4: 7 | C4: =ROUNDUP(B4/2,0) -> 4 | D4: 3
A5: NN95AD | B5: 7 | C5: =ROUNDUP(B5/2,0) -> 4 | D5: 3
A6: NN95AE | B6: 7 | C6: =ROUNDUP(B6/2,0) -> 4 | D6: 3
A7: NN95AF | B7: 7 | C7: =ROUNDUP(B7/2,0) -> 4 | D7: 3
A8: NN95AG | B8: 7 | C8: =ROUNDUP(B8/2,0) -> 4 | D8: 3
A9: NN95AH | B9: 7 | C9: =ROUNDUP(B9/2,0) -> 4 | D9: 3
A10: NN95AJ | B10: 9 | C10: =ROUNDUP(B10/2,0) -> 5 | D10: 2
A11: NN95AL | B11: 7 | C11: =ROUNDUP(B11/2,0) -> 4 | D11: 3
A12: NN95AN | B12: 7 | C12: =ROUNDUP(B12/2,0) -> 4 | D12: 3
A13: NN95AP | B13: 7 | C13: =ROUNDUP(B13/2,0) -> 4
A14: NN95AQ | B14: 7 | C14: =ROUNDUP(B14/2,0) -> 4 | D14: 3
A15: NN95AR | B15: 7 | C15: =ROUNDUP(B15/2,0) -> 4 | D15: 3
A16: NN95AS | B16: 7 | C16: =ROUNDUP(B16/2,0) -> 4 | D16: 3
A17: NN95AT | B17: 7 | C17: =ROUNDUP(B17/2,0) -> 4
A18: NN95AU | B18: 3 | C18: =ROUNDUP(B18/2,0) -> 2 | D18: 2
A19: NN95AW | B19: 7 | C19: =ROUNDUP(B19/2,0) -> 4 | D19: 3
A20: NN95AX | B20: 7 | C20: =ROUNDUP(B20/2,0) -> 4 | D20: 3
A21: NN95AY | B21: 7 | C21: =ROUNDUP(B21/2,0) -> 4
A22: NN95AZ | B22: 7 | C22: =ROUNDUP(B22/2,0) -> 4
A23: NN95BA | B23: 7 | C23: =ROUNDUP(B23/2,0) -> 4 | D23: 3
A24: NN95BB | B24: 7 | C24: =ROUNDUP(B24/2,0) -> 4 | D24: 3
A25: NN95BD | B25: 7 | C25: =ROUNDUP(B25/2,0) -> 4 | D25: 3
A26: NN95BE | B26: 7 | C26: =ROUNDUP(B26/2,0) -> 4 | D26: 3
A27: NN95BF | B27: 4 | C27: =ROUNDUP(B27/2,0) -> 2 | D27: 2
A28: NN95BG | B28: 7 | C28: =ROUNDUP(B28/2,0) -> 4 | D28: 3
A29: NN95BH | B29: 7 | C29: =ROUNDUP(B29/2,0) -> 4 | D29: 3
A30: NN95BJ | B30: 7 | C30: =ROUNDUP(B30/2,0) -> 4 | D30: 3
A31: NN95BL | B31: 7 | C31: =ROUNDUP(B31/2,0) -> 4 | D31: 3
A32: NN95BN | B32: 7 | C32: =ROUNDUP(B32/2,0) -> 4 | D32: 3
A33: NN95BP | B33: 7 | C33: =ROUNDUP(B33/2,0) -> 4 | D33: 3
A34: NN95BQ | B34: 7 | C34: =ROUNDUP(B34/2,0) -> 4 | D34: 3
... A47: NN95DG | B47: 5 | C47: =ROUNDUP(B47/2,0) -> 3 | D47: 3
A48: NN95DH | B48: 5 | C48: =ROUNDUP(B48/2,0) -> 3
A49: NN95DJ | B49: 5 | C49: =ROUNDUP(B49/2,0) -> 3 | D49: 3
A50: NN95DL | B50: 5 | C50: =ROUNDUP(B50/2,0) -> 3 | D50: 3
A51: NN95DN | B51: 5 | C51: =ROUNDUP(B51/2,0) -> 3 | D51: 3
A52: NN95DP | B52: 4 | C52: =ROUNDUP(B52/2,0) -> 2 | D52: 3
A53: NN95DQ | B53: 5 | C53: =ROUNDUP(B53/2,0) -> 3
A54: NN95DR | B54: 4 | C54: =ROUNDUP(B54/2,0) -> 2 | D54: 3
A55: NN95DS | B55: 4 | C55: =ROUNDUP(B55/2,0) -> 2 | D55: 3
A56: NN95DT | B56: 6 | C56: =ROUNDUP(B56/2,0) -> 3 | D56: 3
A57: NN95DU | B57: 5 | C57: =ROUNDUP(B57/2,0) -> 3 | D57: 3
A58: NN95DW | B58: 4 | C58: =ROUNDUP(B58/2,0) -> 2 | D58: 3
A59: NN95DX | B59: 4 | C59: =ROUNDUP(B59/2,0) -> 2 | D59: 3
A60: NN95DY | B60: 6 | C60: =ROUNDUP(B60/2,0) -> 3 | D60: 3
A61: NN95DZ | B61: 5 | C61: =ROUNDUP(B61/2,0) -> 3 | D61: 3
A62: NN95EA | B62: 6 | C62: =ROUNDUP(B62/2,0) -> 3 | D62: 3
A63: NN95EB | B63: 5 | C63: =ROUNDUP(B63/2,0) -> 3 | D63: 3
A64: NN95ED | B64: 5 | C64: =ROUNDUP(B64/2,0) -> 3 | D64: 3
A65: NN95EE | B65: 6 | C65: =ROUNDUP(B65/2,0) -> 3
A66: NN95EF | B66: 8 | C66: =ROUNDUP(B66/2,0) -> 4 | D66: 2
A67: NN95EG | B67: 8 | C67: =ROUNDUP(B67/2,0) -> 4 | D67: 2
A68: NN95EH | B68: 4 | C68: =ROUNDUP(B68/2,0) -> 2 | D68: 3
A69: NN95EJ | B69: 4 | C69: =ROUNDUP(B69/2,0) -> 2 | D69: 3
A70: NN95EL | B70: 5 | C70: =ROUNDUP(B70/2,0) -> 3 | D70: 3
A71: NN95EN | B71: 5 | C71: =ROUNDUP(B71/2,0) -> 3 | D71: 3
A72: NN95EP | B72: 8 | C72: =ROUNDUP(B72/2,0) -> 4 | D72: 2
A73: NN95EQ | B73: 8 | C73: =ROUNDUP(B73/2,0) -> 4 | D73: 2
A74: NN95ER | B74: 5 | C74: =ROUNDUP(B74/2,0) -> 3 | D74: 3
A75: NN95ES | B75: 5 | C75: =ROUNDUP(B75/2,0) -> 3 | D75: 3
A76: NN95ET | B76: 5 | C76: =ROUNDUP(B76/2,0) -> 3 | D76: 3
A77: NN95EU | B77: 5 | C77: =ROUNDUP(B77/2,0) -> 3 | D77: 3
... A121: NN95HQ | B121: 5 | C121: =ROUNDUP(B121/2,0) -> 3 | D121: 2
A122: NN95HR | B122: 6 | C122: =ROUNDUP(B122/2,0) -> 3
A123: NN95HS | B123: 4 | C123: =ROUNDUP(B123/2,0) -> 2 | D123: 3
A124: NN95HT | B124: 6 | C124: =ROUNDUP(B124/2,0) -> 3 | D124: 3
A125: NN95HU | B125: 4 | C125: =ROUNDUP(B125/2,0) -> 2 | D125: 3
A126: NN95HW | B126: 9 | C126: =ROUNDUP(B126/2,0) -> 5 | D126: 5
A127: NN95HX | B127: 6 | C127: =ROUNDUP(B127/2,0) -> 3 | D127: 3
A128: NN95HY | B128: 6 | C128: =ROUNDUP(B128/2,0) -> 3 | D128: 3
A129: NN95HZ | B129: 9 | C129: =ROUNDUP(B129/2,0) -> 5 | D129: 2
A130: NN95JA | B130: 6 | C130: =ROUNDUP(B130/2,0) -> 3 | D130: 3
A131: NN95JB | B131: 6 | C131: =ROUNDUP(B131/2,0) -> 3 | D131: 3
A132: NN95JD | B132: 6 | C132: =ROUNDUP(B132/2,0) -> 3 | D132: 3
A133: NN95JE | B133: 6 | C133: =ROUNDUP(B133/2,0) -> 3 | D133: 3
A134: NN95JF | B134: 6 | C134: =ROUNDUP(B134/2,0) -> 3 | D134: 3
... A317: NN95WJ | B317: 3 | C317: =ROUNDUP(B317/2,0) -> 2 | D317: 2
A318: NN95WL | B318: 4 | C318: =ROUNDUP(B318/2,0) -> 2 | D318: R
A319: NN95WN | B319: 5 | C319: =ROUNDUP(B319/2,0) -> 3 | D319: 2
A320: NN95WP | B320: 4 | C320: =ROUNDUP(B320/2,0) -> 2 | D320: R
A321: NN95WQ | B321: 5 | C321: =ROUNDUP(B321/2,0) -> 3 | D321: 2
A322: NN95WR | B322: 5 | C322: =ROUNDUP(B322/2,0) -> 3 | D322: 2
A323: NN95WS | B323: 5 | C323: =ROUNDUP(B323/2,0) -> 3 | D323: 2
A324: NN95WT | B324: 5 | C324: =ROUNDUP(B324/2,0) -> 3 | D324: 2
A325: NN95WU | B325: 4 | C325: =ROUNDUP(B325/2,0) -> 2 | D325: 2
A326: NN95WY | B326: 5 | C326: =ROUNDUP(B326/2,0) -> 3 | D326: 2
A327: NN95WZ | B327: 5 | C327: =ROUNDUP(B327/2,0) -> 3 | D327: 2
A328: NN95XA | B328: 4 | C328: =ROUNDUP(B328/2,0) -> 2 | D328: 2
A329: NN95XB | B329: 4 | C329: =ROUNDUP(B329/2,0) -> 2 | D329: 2
A330: NN95XD | B330: 4 | C330: =ROUNDUP(B330/2,0) -> 2 | D330: 2
A331: NN95XE | B331: 4 | C331: =ROUNDUP(B331/2,0) -> 2 | D331: 2
A332: NN95XF | B332: 4 | C332: =ROUNDUP(B332/2,0) -> 2 | D332: 2
... A380: NN95ZR | B380: 5 | C380: =ROUNDUP(B380/2,0) -> 3 | D380: 2
A381: NN95ZS | B381: 4 | C381: =ROUNDUP(B381/2,0) -> 2
A382: NN95ZT | B382: 5 | C382: =ROUNDUP(B382/2,0) -> 3 | D382: 2
A383: NN95ZU | B383: 5 | C383: =ROUNDUP(B383/2,0) -> 3 | D383: 2
A384: NN95ZW | B384: 5 | C384: =ROUNDUP(B384/2,0) -> 3 | D384: 2
...
